BEGIN:VCALENDAR
VERSION:2.0
PRODID:-//Green Century - ECPv6.15.19//NONSGML v1.0//EN
CALSCALE:GREGORIAN
METHOD:PUBLISH
X-WR-CALNAME:Green Century
X-ORIGINAL-URL:https://www.greencentury.com
X-WR-CALDESC:Events for Green Century
REFRESH-INTERVAL;VALUE=DURATION:PT1H
X-Robots-Tag:noindex
X-PUBLISHED-TTL:PT1H
BEGIN:VTIMEZONE
TZID:America/Denver
BEGIN:DAYLIGHT
TZOFFSETFROM:-0700
TZOFFSETTO:-0600
TZNAME:MDT
DTSTART:20250309T090000
END:DAYLIGHT
BEGIN:STANDARD
TZOFFSETFROM:-0600
TZOFFSETTO:-0700
TZNAME:MST
DTSTART:20251102T080000
END:STANDARD
BEGIN:DAYLIGHT
TZOFFSETFROM:-0700
TZOFFSETTO:-0600
TZNAME:MDT
DTSTART:20260308T090000
END:DAYLIGHT
BEGIN:STANDARD
TZOFFSETFROM:-0600
TZOFFSETTO:-0700
TZNAME:MST
DTSTART:20261101T080000
END:STANDARD
BEGIN:DAYLIGHT
TZOFFSETFROM:-0700
TZOFFSETTO:-0600
TZNAME:MDT
DTSTART:20270314T090000
END:DAYLIGHT
BEGIN:STANDARD
TZOFFSETFROM:-0600
TZOFFSETTO:-0700
TZNAME:MST
DTSTART:20271107T080000
END:STANDARD
END:VTIMEZONE
BEGIN:VEVENT
DTSTART;TZID=America/Denver:20260425T173000
DTEND;TZID=America/Denver:20260425T210000
DTSTAMP:20260422T100828
CREATED:20260407T160736Z
LAST-MODIFIED:20260407T160736Z
UID:10000071-1777138200-1777150800@www.greencentury.com
SUMMARY:One Earth Film Festival Screening
DESCRIPTION:One Earth Film Festival is the Midwest’s premier environmental film festival\, based in Chicago and reaching audiences beyond the Chicago region through some virtual offerings. We are excited to be tabling at the film screening of “From Rails to Trails”. Join the Green Century team in the foyer when the doors open at 5:30\, and stay after the film for enlightening facilitated dialogue with relevant experts and advocates. \nDoors Open at 5:30 PM (CST). Film Starts Promptly at 6:30 (CST).\nThere will be food & drink before and after the screening.\nFree with a suggested $10 donation.
URL:https://www.greencentury.com/event/one-earth-film-festival-screening/
LOCATION:3338 N Broadway\, Chicago\, IL 60657\, 3338 N Broadway\, Chicago\, IL\, 60657\, United States
ATTACH;FMTTYPE=image/png:https://www.greencentury.com/wp-content/uploads/Screenshot-2026-04-07-103439.png
END:VEVENT
BEGIN:VEVENT
DTSTART;TZID=America/Denver:20260426T110000
DTEND;TZID=America/Denver:20260426T150000
DTSTAMP:20260422T100828
CREATED:20260407T160848Z
LAST-MODIFIED:20260407T160934Z
UID:10000072-1777201200-1777215600@www.greencentury.com
SUMMARY:Earth Day Action Fair: One Earth Film Festival
DESCRIPTION:Green Century is excited to be participating in the Earth Day Action Fair. Celebrate the 56th anniversary of Earth Day by taking action for our planet! Join One Earth Film Festival\, the City of Chicago Department of Environment\, and partners working on environmental and climate justice initiatives. Visit with groups to learn about and plug into their work\, opportunities\, and events. Enjoy community and fellowship with other environmental advocates.
URL:https://www.greencentury.com/event/earth-day-action-fair-one-earth-film-festival/
LOCATION:Chicago Cultural Center GAR Rotunda\, 78 E Washington St\, Chicago\, IL\, 60602\, United States
ATTACH;FMTTYPE=image/png:https://www.greencentury.com/wp-content/uploads/Screenshot-2026-04-07-103439.png
END:VEVENT
END:VCALENDAR